BEGIN:VCALENDAR
VERSION:2.0
PRODID:-//Plone.org//NONSGML plone.app.event//EN
X-WR-TIMEZONE:America/Buenos_Aires
BEGIN:VEVENT
SUMMARY:Banca de Qualificação: Variação na Diversidade Vegetal da Por
 ção Oriental da Serra de Quilmes"
DTSTART;TZID=America/Sao_Paulo;VALUE=DATE-TIME:20190618T160000
DTEND;TZID=America/Sao_Paulo;VALUE=DATE-TIME:20190618T180000
DTSTAMP;VALUE=DATE-TIME:20260423T230305Z
UID:4aecd66af4ff440fae8d07f84fa69718@portal.unila.edu.br
CREATED;VALUE=DATE-TIME:20190702T130737Z
DESCRIPTION:O PPGBN promove mais uma Banca de Qualificação\, desta vez d
 a discente Alejandra Belén Dip\, sobre o tema: "Variação na diversidade
  vegetal da porção\noriental da Serra de Quilmes (Tucumán – Argentina
 ) ao longo de um gradiente altitudinal". O evento é aberto para docentes 
 e discentes do Programa\, TAES e demais interessados.
LAST-MODIFIED;VALUE=DATE-TIME:20190702T130811Z
LOCATION:Jardim Universitário - G014/G015
URL:https://portal.unila.edu.br/eventos/banca-de-qualifiacacao-variacao-na
 -diversidade-vegetal-da-porcao-oriental-da-serra-de-quilmes
END:VEVENT
BEGIN:VTIMEZONE
TZID:America/Sao_Paulo
X-LIC-LOCATION:America/Sao_Paulo
BEGIN:STANDARD
DTSTART;VALUE=DATE-TIME:20190216T230000
TZNAME:BRT
TZOFFSETFROM:-0200
TZOFFSETTO:-0300
END:STANDARD
END:VTIMEZONE
END:VCALENDAR
