BEGIN:VCALENDAR
VERSION:2.0
PRODID:-//Plone.org//NONSGML plone.app.event//EN
X-WR-TIMEZONE:America/Buenos_Aires
BEGIN:VEVENT
SUMMARY:Banca de mestrado do PPG-BN
DTSTART;TZID=America/Sao_Paulo;VALUE=DATE-TIME:20190729T083000
DTEND;TZID=America/Sao_Paulo;VALUE=DATE-TIME:20190729T120000
DTSTAMP;VALUE=DATE-TIME:20260423T061147Z
UID:986169aaaaf94499a4cf754f1c5d370a@portal.unila.edu.br
CREATED;VALUE=DATE-TIME:20190715T133047Z
DESCRIPTION:Metacomunidades de anuros inseridas em áreas rurais: a import
 ância da paisagem e dos efeitos estocásticos na sua estrutura
LAST-MODIFIED;VALUE=DATE-TIME:20190715T133305Z
LOCATION:Bloco do Ginásio\, sala G101\, UNILA-Jardim Universitário (Aven
 ida Tarquínio Joslin dos Santos\, 1000)
URL:https://portal.unila.edu.br/eventos/banca-de-mestrado-do-ppg-bn
END:VEVENT
BEGIN:VTIMEZONE
TZID:America/Sao_Paulo
X-LIC-LOCATION:America/Sao_Paulo
BEGIN:STANDARD
DTSTART;VALUE=DATE-TIME:20190216T230000
TZNAME:BRT
TZOFFSETFROM:-0200
TZOFFSETTO:-0300
END:STANDARD
END:VTIMEZONE
END:VCALENDAR
