BEGIN:VCALENDAR
VERSION:2.0
PRODID:-//Plone.org//NONSGML plone.app.event//EN
X-WR-TIMEZONE:America/Buenos_Aires
BEGIN:VEVENT
SUMMARY:Banca de mestrado do PPG-BN
DTSTART;TZID=America/Sao_Paulo;VALUE=DATE-TIME:20200130T140000
DTEND;TZID=America/Sao_Paulo;VALUE=DATE-TIME:20200130T180000
DTSTAMP;VALUE=DATE-TIME:20260425T083000Z
UID:ddc77c72c5c8415889f27a724a20ab97@portal.unila.edu.br
CATEGORIES:mestrado biodiversidade
CREATED;VALUE=DATE-TIME:20200127T133732Z
DESCRIPTION:A estudante Fatima Barboza Penayo defende a dissertação "Inf
 luência das características locais e da paisagem na ocupação de habita
 ts aquáticos de três espécies de anfíbios"
LAST-MODIFIED;VALUE=DATE-TIME:20200127T133837Z
LOCATION:Sala G-101 - UNILA-Jardim Universitário (Avenida Tarquínio Josl
 in dos Santos\, 1000)
URL:https://portal.unila.edu.br/eventos/banca-de-mestrado-do-ppg-bn-1
END:VEVENT
BEGIN:VTIMEZONE
TZID:America/Sao_Paulo
X-LIC-LOCATION:America/Sao_Paulo
BEGIN:DAYLIGHT
DTSTART;VALUE=DATE-TIME:20191020T010000
TZNAME:BRST
TZOFFSETFROM:-0300
TZOFFSETTO:-0200
END:DAYLIGHT
END:VTIMEZONE
END:VCALENDAR
