BEGIN:VCALENDAR
VERSION:2.0
PRODID:-//Plone.org//NONSGML plone.app.event//EN
X-WR-TIMEZONE:America/Buenos_Aires
BEGIN:VEVENT
SUMMARY:Banca de mestrado do PPG-BC
DTSTART;TZID=America/Sao_Paulo;VALUE=DATE-TIME:20200211T090000
DTEND;TZID=America/Sao_Paulo;VALUE=DATE-TIME:20200211T120000
DTSTAMP;VALUE=DATE-TIME:20260423T210142Z
UID:f769970a385d42829fae5886773bf4d5@portal.unila.edu.br
CATEGORIES:mestrado biociências
CREATED;VALUE=DATE-TIME:20200207T145620Z
DESCRIPTION:Rosana Álvarez Callejas defende dissertação na próxima ter
 ça-feira (11)\, na UNILA-Jardim Universitário
LAST-MODIFIED;VALUE=DATE-TIME:20200207T150401Z
LOCATION:G-014/015 - UNILA-Jardim Universitário (Avenida Tarquínio Josli
 n dos Santos\, 1000)
URL:https://portal.unila.edu.br/eventos/banca-de-mestrado-do-ppg-bc-2
END:VEVENT
BEGIN:VTIMEZONE
TZID:America/Sao_Paulo
X-LIC-LOCATION:America/Sao_Paulo
BEGIN:DAYLIGHT
DTSTART;VALUE=DATE-TIME:20191020T010000
TZNAME:BRST
TZOFFSETFROM:-0300
TZOFFSETTO:-0200
END:DAYLIGHT
END:VTIMEZONE
END:VCALENDAR
