BEGIN:VCALENDAR
VERSION:2.0
PRODID:-//Plone.org//NONSGML plone.app.event//EN
X-WR-TIMEZONE:America/Buenos_Aires
BEGIN:VEVENT
SUMMARY:Banca de Defesa TCC - Filosofia
DTSTART;TZID=America/Buenos_Aires;VALUE=DATE-TIME:20231010T140000
DTSTAMP;VALUE=DATE-TIME:20260424T112122Z
UID:5e9c9e81923f4539ad0dc14780add270@portal.unila.edu.br
CREATED;VALUE=DATE-TIME:20230927T164340Z
DESCRIPTION:Banca de defesa de Trabalho de Conclusão de Curso do discente
  Thiago José Faria Paes
LAST-MODIFIED;VALUE=DATE-TIME:20230927T164348Z
LOCATION:PTI - Sala B04E03S11
URL:https://portal.unila.edu.br/eventos/banca-de-defesa-tcc-filosofia
END:VEVENT
BEGIN:VTIMEZONE
TZID:America/Buenos_Aires
X-LIC-LOCATION:America/Buenos_Aires
BEGIN:STANDARD
DTSTART;VALUE=DATE-TIME:20090314T230000
TZNAME:ART
TZOFFSETFROM:-0200
TZOFFSETTO:-0300
END:STANDARD
END:VTIMEZONE
END:VCALENDAR
