BEGIN:VCALENDAR
VERSION:2.0
PRODID:-//Plone.org//NONSGML plone.app.event//EN
X-WR-TIMEZONE:America/Buenos_Aires
BEGIN:VEVENT
SUMMARY:Banca de Defesa PPGIELA
DTSTART;TZID=America/Sao_Paulo;VALUE=DATE-TIME:20190408T143000
DTEND;TZID=America/Sao_Paulo;VALUE=DATE-TIME:20190408T153000
DTSTAMP;VALUE=DATE-TIME:20260423T224937Z
UID:5920f3f4b70e4bb29e8645307fcf82bf@portal.unila.edu.br
CREATED;VALUE=DATE-TIME:20190401T142703Z
DESCRIPTION:Banca de defesa de dissertação do discente Jeferson Martins 
 Vaz\, com o título Potencialidades da História Oral na Discussão da Ide
 ntidade Camponesa no Movimento dos Pequenos Agricultores do Brasil
LAST-MODIFIED;VALUE=DATE-TIME:20190401T142958Z
LOCATION:Bloco 04\, Espaço 03\, Sala 01- Campus UNILA PTI
URL:https://portal.unila.edu.br/eventos/banca-de-defesa-ppgiela
END:VEVENT
BEGIN:VTIMEZONE
TZID:America/Sao_Paulo
X-LIC-LOCATION:America/Sao_Paulo
BEGIN:STANDARD
DTSTART;VALUE=DATE-TIME:20190216T230000
TZNAME:BRT
TZOFFSETFROM:-0200
TZOFFSETTO:-0300
END:STANDARD
END:VTIMEZONE
END:VCALENDAR
