BEGIN:VCALENDAR
VERSION:2.0
PRODID:-//Plone.org//NONSGML plone.app.event//EN
X-WR-TIMEZONE:America/Buenos_Aires
BEGIN:VEVENT
SUMMARY:Banca do mestrado em Física Aplicada
DTSTART;TZID=America/Sao_Paulo;VALUE=DATE-TIME:20191210T100000
DTEND;TZID=America/Sao_Paulo;VALUE=DATE-TIME:20191210T120000
DTSTAMP;VALUE=DATE-TIME:20260425T082850Z
UID:225650d185234226bf01e7ccde4e3150@portal.unila.edu.br
CATEGORIES:mestrado física
CREATED;VALUE=DATE-TIME:20191209T124358Z
DESCRIPTION:A estudante Lara Marques Daminelli defende a dissertação “
 Obtenção e caraterização de heteroestruturas bidimensionais (2D/2D) co
 nstruídas a partir de materiais dicalcogenados de metais de transição
 ”
LAST-MODIFIED;VALUE=DATE-TIME:20191209T131953Z
LOCATION:Bloco 4\, Espaço 3\, Sala 3 - UNILA-PTI (Avenida Tancredo Neves\
 , 6731)
URL:https://portal.unila.edu.br/eventos/banca-de-defesa-de-mestrado
END:VEVENT
BEGIN:VTIMEZONE
TZID:America/Sao_Paulo
X-LIC-LOCATION:America/Sao_Paulo
BEGIN:DAYLIGHT
DTSTART;VALUE=DATE-TIME:20191020T010000
TZNAME:BRST
TZOFFSETFROM:-0300
TZOFFSETTO:-0200
END:DAYLIGHT
END:VTIMEZONE
END:VCALENDAR
