BEGIN:VCALENDAR
VERSION:2.0
PRODID:-//Plone.org//NONSGML plone.app.event//EN
X-WR-TIMEZONE:America/Buenos_Aires
BEGIN:VEVENT
SUMMARY:Aula Magna da pós-graduação: "America Latina un continente en d
 isputa"
DTSTART;TZID=America/Buenos_Aires;VALUE=DATE-TIME:20240809T180000
DTSTAMP;VALUE=DATE-TIME:20260424T010834Z
UID:f73fcde6a8ba48a188b35adccba51dad@portal.unila.edu.br
CREATED;VALUE=DATE-TIME:20240802T140152Z
DESCRIPTION:Aula magna será ministrada por Daniel Fernando Filmus\, no au
 ditória da UNILA-Jardim Universitário\, no dia 9 de agosto.
LAST-MODIFIED;VALUE=DATE-TIME:20240807T171122Z
LOCATION:Auditório da UNILA-Jardim Universitário (Avenida Tarquínio Jos
 lin dos Santos\, 1000)
URL:https://portal.unila.edu.br/eventos/aula-magna-da-pos-graduacao-americ
 a-latina-un-continente-en-disputa
END:VEVENT
BEGIN:VTIMEZONE
TZID:America/Buenos_Aires
X-LIC-LOCATION:America/Buenos_Aires
BEGIN:STANDARD
DTSTART;VALUE=DATE-TIME:20090314T230000
TZNAME:ART
TZOFFSETFROM:-0200
TZOFFSETTO:-0300
END:STANDARD
END:VTIMEZONE
END:VCALENDAR
