BEGIN:VCALENDAR
VERSION:2.0
PRODID:-//Plone.org//NONSGML plone.app.event//EN
X-WR-TIMEZONE:America/Buenos_Aires
BEGIN:VEVENT
SUMMARY:Aula Inaugural - Programa de Pós-Graduação em Relações Intern
 acionais
DTSTART;TZID=America/Buenos_Aires;VALUE=DATE-TIME:20260407T100000
DTEND;TZID=America/Buenos_Aires;VALUE=DATE-TIME:20260407T120000
DTSTAMP;VALUE=DATE-TIME:20260420T215553Z
UID:a46f5ceb003f442787c0cc5524b73c33@portal.unila.edu.br
ATTENDEE;CN="Docentes, Discentes e Técnicos";ROLE=REQ-PARTICIPANT:Docente
 s, Discentes e Técnicos
CATEGORIES:ilaesp
CATEGORIES:conferência
CATEGORIES:docentes
CATEGORIES:discentes
CATEGORIES:técnicos
CATEGORIES:pós-graduação
CREATED;VALUE=DATE-TIME:20260331T180537Z
DESCRIPTION:O Programa de Pós-Graduação em Relações Internacionais (P
 PGRI) convida a comunidade acadêmica para a Aula Inaugural do semestre.
LAST-MODIFIED;VALUE=DATE-TIME:20260331T183631Z
LOCATION:Auditório do Campus Integração
URL:https://portal.unila.edu.br/eventos/aula-inaugural-programa-de-pos-gra
 duacao-em-relacoes-internacionais
END:VEVENT
BEGIN:VTIMEZONE
TZID:America/Buenos_Aires
X-LIC-LOCATION:America/Buenos_Aires
BEGIN:STANDARD
DTSTART;VALUE=DATE-TIME:20090314T230000
TZNAME:ART
TZOFFSETFROM:-0200
TZOFFSETTO:-0300
END:STANDARD
END:VTIMEZONE
END:VCALENDAR
