BEGIN:VCALENDAR
VERSION:2.0
PRODID:-//Plone.org//NONSGML plone.app.event//EN
X-WR-TIMEZONE:America/Buenos_Aires
BEGIN:VEVENT
SUMMARY:Aula Inaugural - EEALA
DTSTART;TZID=America/Buenos_Aires;VALUE=DATE-TIME:20220409T090000
DTEND;TZID=America/Buenos_Aires;VALUE=DATE-TIME:20220409T160000
DTSTAMP;VALUE=DATE-TIME:20260423T205823Z
UID:2372a664774d4bc59cf223c6e7949ba6@portal.unila.edu.br
CONTACT:https://inscreva.unila.edu.br/events/1829/subscriptions/new
CREATED;VALUE=DATE-TIME:20220406T194209Z
DESCRIPTION:O curso de Especialização em Ensino e Aprendizagem de Língu
 as Adicionais terá programação especial com aula inaugural
LAST-MODIFIED;VALUE=DATE-TIME:20220406T195406Z
LOCATION:Campus Integração - UNILA
URL:https://portal.unila.edu.br/eventos/aula-inaugural-eeala
END:VEVENT
BEGIN:VTIMEZONE
TZID:America/Buenos_Aires
X-LIC-LOCATION:America/Buenos_Aires
BEGIN:STANDARD
DTSTART;VALUE=DATE-TIME:20090314T230000
TZNAME:ART
TZOFFSETFROM:-0200
TZOFFSETTO:-0300
END:STANDARD
END:VTIMEZONE
END:VCALENDAR
