BEGIN:VCALENDAR
VERSION:2.0
PRODID:-//Plone.org//NONSGML plone.app.event//EN
X-WR-TIMEZONE:America/Buenos_Aires
BEGIN:VEVENT
SUMMARY:Aula inaugural do semestre acadêmico 2022.1 do PPGLC
DTSTART;TZID=America/Buenos_Aires;VALUE=DATE-TIME:20220324T180000
DTEND;TZID=America/Buenos_Aires;VALUE=DATE-TIME:20220324T190000
DTSTAMP;VALUE=DATE-TIME:20260424T032422Z
UID:9484d21653cf4b1dbb5437922dc3945f@portal.unila.edu.br
CREATED;VALUE=DATE-TIME:20220315T162634Z
DESCRIPTION:O tema "A construção da semana" será abordado pelo conferen
 cista Prof. Dr. Raul Antelo.
LAST-MODIFIED;VALUE=DATE-TIME:20220315T162717Z
LOCATION:https://www.youtube.com/channel/UCI18EqOq0gUihjivu9aCweQ
URL:https://portal.unila.edu.br/eventos/aula-inaugural-do-semestre-academi
 co-2022-1-do-ppglc-1
END:VEVENT
BEGIN:VTIMEZONE
TZID:America/Buenos_Aires
X-LIC-LOCATION:America/Buenos_Aires
BEGIN:STANDARD
DTSTART;VALUE=DATE-TIME:20090314T230000
TZNAME:ART
TZOFFSETFROM:-0200
TZOFFSETTO:-0300
END:STANDARD
END:VTIMEZONE
END:VCALENDAR
