BEGIN:VCALENDAR
VERSION:2.0
PRODID:-//Plone.org//NONSGML plone.app.event//EN
X-WR-TIMEZONE:America/Buenos_Aires
BEGIN:VEVENT
SUMMARY:Aula Inaugural do PPGECI
DTSTART;TZID=America/Sao_Paulo;VALUE=DATE-TIME:20190328T100000
DTEND;TZID=America/Sao_Paulo;VALUE=DATE-TIME:20190328T120000
DTSTAMP;VALUE=DATE-TIME:20260423T224935Z
UID:9d33b7a544c7403e9c42fbb0a95f7eac@portal.unila.edu.br
CREATED;VALUE=DATE-TIME:20190322T142436Z
DESCRIPTION:A aula inaugural de 2019 do Programa de Pós-Graduação em En
 genharia Civil terá palestra com o professor Armando M. Awruch (UFRGS)
LAST-MODIFIED;VALUE=DATE-TIME:20190322T150044Z
LOCATION:Parque Tecnológico Itaipu - Bloco 09\, Espaço 01\, Sala 02
URL:https://portal.unila.edu.br/eventos/aula-inaugural-do-ppg-eci
END:VEVENT
BEGIN:VTIMEZONE
TZID:America/Sao_Paulo
X-LIC-LOCATION:America/Sao_Paulo
BEGIN:STANDARD
DTSTART;VALUE=DATE-TIME:20190216T230000
TZNAME:BRT
TZOFFSETFROM:-0200
TZOFFSETTO:-0300
END:STANDARD
END:VTIMEZONE
END:VCALENDAR
