BEGIN:VCALENDAR
VERSION:2.0
PRODID:-//Plone.org//NONSGML plone.app.event//EN
X-WR-TIMEZONE:America/Buenos_Aires
BEGIN:VEVENT
SUMMARY:Aula Inaugural do Curso de Licenciatura Intercultural Indígena no
  Território Yvy Mbyte
DTSTART;TZID=America/Buenos_Aires;VALUE=DATE-TIME:20240827T190000
DTSTAMP;VALUE=DATE-TIME:20260423T230955Z
UID:2b7914acb4af4c1cb8fa93e653161650@portal.unila.edu.br
CREATED;VALUE=DATE-TIME:20240822T145231Z
DESCRIPTION:Evento contará com aula de Rosilene Tuxa\, diretora de Polít
 icas de Educação Escolar Indígena do Ministério da Educação (MEC)\, 
 e um debate com Maria Aparecida Mendes de Oliveira e Rhuan Guilherme Tardo
  Ribeiro.
LAST-MODIFIED;VALUE=DATE-TIME:20240822T145517Z
LOCATION:Auditório - UNILA Jd. Universitário
URL:https://portal.unila.edu.br/eventos/aula-inaugural-do-curso-de-licenci
 atura-intercultural-indigena-no-territorio-yvy-mbyte
END:VEVENT
BEGIN:VTIMEZONE
TZID:America/Buenos_Aires
X-LIC-LOCATION:America/Buenos_Aires
BEGIN:STANDARD
DTSTART;VALUE=DATE-TIME:20090314T230000
TZNAME:ART
TZOFFSETFROM:-0200
TZOFFSETTO:-0300
END:STANDARD
END:VTIMEZONE
END:VCALENDAR
