BEGIN:VCALENDAR
VERSION:2.0
PRODID:-//Plone.org//NONSGML plone.app.event//EN
X-WR-TIMEZONE:America/Buenos_Aires
BEGIN:VEVENT
SUMMARY:Aula Inaugural de Mestrado em História
DTSTART;TZID=America/Buenos_Aires;VALUE=DATE-TIME:20260416T150000
DTEND;TZID=America/Buenos_Aires;VALUE=DATE-TIME:20260416T170000
DTSTAMP;VALUE=DATE-TIME:20260419T221127Z
UID:a895e817d87746ca97e2c9036dbee50a@portal.unila.edu.br
CATEGORIES:ilaach
CREATED;VALUE=DATE-TIME:20260330T194928Z
DESCRIPTION:Semestre inicia com a conferência intitulada “Uywaña: form
 as de la domesticación\, la domesticidad y el cuidado mutuo entre persona
 s humanas y no humanas en los Andes sur”.
LAST-MODIFIED;VALUE=DATE-TIME:20260330T195143Z
LOCATION:sala C301 - JU
URL:https://portal.unila.edu.br/eventos/aula-inaugural-de-mestrado-em-hist
 oria
END:VEVENT
BEGIN:VTIMEZONE
TZID:America/Buenos_Aires
X-LIC-LOCATION:America/Buenos_Aires
BEGIN:STANDARD
DTSTART;VALUE=DATE-TIME:20090314T230000
TZNAME:ART
TZOFFSETFROM:-0200
TZOFFSETTO:-0300
END:STANDARD
END:VTIMEZONE
END:VCALENDAR
