BEGIN:VCALENDAR
VERSION:2.0
PRODID:-//Plone.org//NONSGML plone.app.event//EN
X-WR-TIMEZONE:America/Buenos_Aires
BEGIN:VEVENT
SUMMARY:Aula Inaugural da Especialização em Gênero e Diversidade na Edu
 cação
DTSTART;TZID=America/Sao_Paulo;VALUE=DATE-TIME:20190503T190000
DTEND;TZID=America/Sao_Paulo;VALUE=DATE-TIME:20190503T213000
DTSTAMP;VALUE=DATE-TIME:20260424T114216Z
UID:8092cc5d2c18435aaa87a6148f1437cf@portal.unila.edu.br
CREATED;VALUE=DATE-TIME:20190426T143934Z
DESCRIPTION:Aula Inaugural da Especialização em Gênero e Diversidade na
  Educação\, com a temática "La Presencia de Las Mujeres en Los Ejércit
 os Mexicanos del Siglo XIX".
LAST-MODIFIED;VALUE=DATE-TIME:20190426T143939Z
LOCATION:Fundação Cultural - R. Benjamin Constant\, 62
URL:https://portal.unila.edu.br/eventos/aula-inaugural-da-especializacao-e
 m-genero-e-diversidade-na-educacao
END:VEVENT
BEGIN:VTIMEZONE
TZID:America/Sao_Paulo
X-LIC-LOCATION:America/Sao_Paulo
BEGIN:STANDARD
DTSTART;VALUE=DATE-TIME:20190216T230000
TZNAME:BRT
TZOFFSETFROM:-0200
TZOFFSETTO:-0300
END:STANDARD
END:VTIMEZONE
END:VCALENDAR
