BEGIN:VCALENDAR
VERSION:2.0
PRODID:-//Plone.org//NONSGML plone.app.event//EN
X-WR-TIMEZONE:America/Buenos_Aires
BEGIN:VEVENT
SUMMARY:Aula Inaugural "Como falar em Direitos Humanos nos dias de hoje?"
DTSTART;TZID=America/Buenos_Aires;VALUE=DATE-TIME:20241213T190000
DTSTAMP;VALUE=DATE-TIME:20260423T225832Z
UID:e32d523174cf483cbcc349017132ce73@portal.unila.edu.br
CREATED;VALUE=DATE-TIME:20241206T104930Z
DESCRIPTION:A aula inaugural da turma 2024/2025 da Especialização em Dir
 eitos Humanos na América Latina será ministrada por Carol Dartora.
LAST-MODIFIED;VALUE=DATE-TIME:20241206T105455Z
LOCATION:UNILA - Jardim Universitário
URL:https://portal.unila.edu.br/eventos/aula-inaugural-como-falar-em-direi
 tos-humanos-nos-dias-de-hoje
END:VEVENT
BEGIN:VTIMEZONE
TZID:America/Buenos_Aires
X-LIC-LOCATION:America/Buenos_Aires
BEGIN:STANDARD
DTSTART;VALUE=DATE-TIME:20090314T230000
TZNAME:ART
TZOFFSETFROM:-0200
TZOFFSETTO:-0300
END:STANDARD
END:VTIMEZONE
END:VCALENDAR
