BEGIN:VCALENDAR
VERSION:2.0
PRODID:-//Plone.org//NONSGML plone.app.event//EN
X-WR-TIMEZONE:America/Buenos_Aires
BEGIN:VEVENT
SUMMARY:Aula Aberta: "Por psicologia(s) em movimento com povos indígenas"
DTSTART;TZID=America/Buenos_Aires;VALUE=DATE-TIME:20241210T100000
DTSTAMP;VALUE=DATE-TIME:20260423T145829Z
UID:2cd3272c86f148519bd9eee68de92351@portal.unila.edu.br
CREATED;VALUE=DATE-TIME:20241202T130515Z
DESCRIPTION:Ministrada pelo professor Lucas Luis de Faria\, a atividade se
 rá realizada no formato online como parte da disciplina de Etnopsiquiatri
 a\, do curso de Saúde Coletiva.
LAST-MODIFIED;VALUE=DATE-TIME:20241202T130758Z
URL:https://portal.unila.edu.br/eventos/aula-aberta-por-psicologia-s-em-mo
 vimento-com-povos-indigenas
END:VEVENT
BEGIN:VTIMEZONE
TZID:America/Buenos_Aires
X-LIC-LOCATION:America/Buenos_Aires
BEGIN:STANDARD
DTSTART;VALUE=DATE-TIME:20090314T230000
TZNAME:ART
TZOFFSETFROM:-0200
TZOFFSETTO:-0300
END:STANDARD
END:VTIMEZONE
END:VCALENDAR
