BEGIN:VCALENDAR
VERSION:2.0
PRODID:-//Plone.org//NONSGML plone.app.event//EN
X-WR-TIMEZONE:America/Buenos_Aires
BEGIN:VEVENT
SUMMARY:Aula aberta da disciplina "Questões do Capitalismo Contemporâneo
 "
DTSTART;TZID=America/Buenos_Aires;VALUE=DATE-TIME:20250306T190000
DTSTAMP;VALUE=DATE-TIME:20260424T011006Z
UID:4f3cb28c74c34b219ee606accf52e514@portal.unila.edu.br
CREATED;VALUE=DATE-TIME:20250226T151400Z
DESCRIPTION:A atividade contará com apresentações de análises de conju
 ntura elaboradas por discentes do curso de Serviço Social da UNILA.
LAST-MODIFIED;VALUE=DATE-TIME:20250226T151838Z
LOCATION:UNILA - Campus Integração
URL:https://portal.unila.edu.br/eventos/aula-aberta-da-disciplina-questoes
 -do-capitalismo-contemporaneo
END:VEVENT
BEGIN:VTIMEZONE
TZID:America/Buenos_Aires
X-LIC-LOCATION:America/Buenos_Aires
BEGIN:STANDARD
DTSTART;VALUE=DATE-TIME:20090314T230000
TZNAME:ART
TZOFFSETFROM:-0200
TZOFFSETTO:-0300
END:STANDARD
END:VTIMEZONE
END:VCALENDAR
