BEGIN:VCALENDAR
VERSION:2.0
PRODID:-//Plone.org//NONSGML plone.app.event//EN
X-WR-TIMEZONE:America/Buenos_Aires
BEGIN:VEVENT
SUMMARY:Aula aberta acerca do Mercosul\, Unasul e Brics
DTSTART;TZID=America/Buenos_Aires;VALUE=DATE-TIME:20240917T150000
DTSTAMP;VALUE=DATE-TIME:20260423T210135Z
UID:073d3e8a076b497089c0fccec4cff0a3@portal.unila.edu.br
CREATED;VALUE=DATE-TIME:20240912T202341Z
DESCRIPTION:Em 17 de setembro\, no Campus Integração\, será realizada a
  aula aberta “Um Balanço das Relações Sul-Sul em 2024: Mercosul\, Una
 sul e Brics”.
LAST-MODIFIED;VALUE=DATE-TIME:20240912T202347Z
LOCATION:UNILA-Campus Integração - Sala A119
URL:https://portal.unila.edu.br/eventos/aula-aberta-acerca-do-mercosul-una
 sul-e-brics
END:VEVENT
BEGIN:VTIMEZONE
TZID:America/Buenos_Aires
X-LIC-LOCATION:America/Buenos_Aires
BEGIN:STANDARD
DTSTART;VALUE=DATE-TIME:20090314T230000
TZNAME:ART
TZOFFSETFROM:-0200
TZOFFSETTO:-0300
END:STANDARD
END:VTIMEZONE
END:VCALENDAR
