BEGIN:VCALENDAR
VERSION:2.0
PRODID:-//Plone.org//NONSGML plone.app.event//EN
X-WR-TIMEZONE:America/Buenos_Aires
BEGIN:VEVENT
SUMMARY:Audiência pública
DTSTART;TZID=America/Buenos_Aires;VALUE=DATE-TIME:20250523T090000
DTSTAMP;VALUE=DATE-TIME:20260423T133516Z
UID:4df60f4fbba74ec181477895d9aaffb7@portal.unila.edu.br
CREATED;VALUE=DATE-TIME:20250521T104634Z
DESCRIPTION:UNILA disponibiliza transporte para audiência pública da Câ
 mara Municipal de Foz do Iguaçu sobre o Dia da Memória da Coluna Prestes
 \, no dia 23 de maio.
LAST-MODIFIED;VALUE=DATE-TIME:20250521T104657Z
URL:https://portal.unila.edu.br/eventos/audiencia-publica
END:VEVENT
BEGIN:VTIMEZONE
TZID:America/Buenos_Aires
X-LIC-LOCATION:America/Buenos_Aires
BEGIN:STANDARD
DTSTART;VALUE=DATE-TIME:20090314T230000
TZNAME:ART
TZOFFSETFROM:-0200
TZOFFSETTO:-0300
END:STANDARD
END:VTIMEZONE
END:VCALENDAR
