BEGIN:VCALENDAR
VERSION:2.0
PRODID:-//Plone.org//NONSGML plone.app.event//EN
X-WR-TIMEZONE:America/Buenos_Aires
BEGIN:VEVENT
SUMMARY:Audiência Pública - Plano de Desenvolvimento Institucional
DTSTART;TZID=America/Buenos_Aires;VALUE=DATE-TIME:20240917T080000
DTSTAMP;VALUE=DATE-TIME:20260423T225549Z
UID:a7ff93cda33b47cf83600695863e5d70@portal.unila.edu.br
CREATED;VALUE=DATE-TIME:20240913T185433Z
DESCRIPTION:Na terça-feira (17)\, a PROPLAN realiza a segunda audiência 
 sobre os cinco eixos para a construção do PDI 2025-2029. Esse próximo e
 ncontro abordará o tema Pesquisa.
LAST-MODIFIED;VALUE=DATE-TIME:20240913T185439Z
LOCATION:Auditório do Campus Integração – UNILA - Avenida Tancredo Ne
 ves\, 3147 - Porto Belo
URL:https://portal.unila.edu.br/eventos/audiencia-publica-plano-de-desenvo
 lvimento-institucional
END:VEVENT
BEGIN:VTIMEZONE
TZID:America/Buenos_Aires
X-LIC-LOCATION:America/Buenos_Aires
BEGIN:STANDARD
DTSTART;VALUE=DATE-TIME:20090314T230000
TZNAME:ART
TZOFFSETFROM:-0200
TZOFFSETTO:-0300
END:STANDARD
END:VTIMEZONE
END:VCALENDAR
