BEGIN:VCALENDAR
VERSION:2.0
PRODID:-//Plone.org//NONSGML plone.app.event//EN
X-WR-TIMEZONE:America/Buenos_Aires
BEGIN:VEVENT
SUMMARY:Audiência Pública - Plano de Desenvolvimento Institucional
DTSTART;TZID=America/Buenos_Aires;VALUE=DATE-TIME:20241001T140000
DTSTAMP;VALUE=DATE-TIME:20260424T032312Z
UID:6bfb45df69d249f480bfef28974b06d7@portal.unila.edu.br
CREATED;VALUE=DATE-TIME:20240919T125257Z
DESCRIPTION:Na terça-feira (1)\, a PROPLAN realiza a quinta audiência so
 bre os cinco eixos para a construção do PDI 2025-2029. Esse próximo enc
 ontro abordará o tema Internacionalização.
LAST-MODIFIED;VALUE=DATE-TIME:20240919T125302Z
LOCATION:Auditório da UNILA-Campus Integração
URL:https://portal.unila.edu.br/eventos/audiencia-publica-plano-de-desenvo
 lvimento-institucional-3
END:VEVENT
BEGIN:VTIMEZONE
TZID:America/Buenos_Aires
X-LIC-LOCATION:America/Buenos_Aires
BEGIN:STANDARD
DTSTART;VALUE=DATE-TIME:20090314T230000
TZNAME:ART
TZOFFSETFROM:-0200
TZOFFSETTO:-0300
END:STANDARD
END:VTIMEZONE
END:VCALENDAR
