BEGIN:VCALENDAR
VERSION:2.0
PRODID:-//Plone.org//NONSGML plone.app.event//EN
X-WR-TIMEZONE:America/Buenos_Aires
BEGIN:VEVENT
SUMMARY:Audiência Pública - Plano de Desenvolvimento Institucional
DTSTART;TZID=America/Buenos_Aires;VALUE=DATE-TIME:20240923T140000
DTSTAMP;VALUE=DATE-TIME:20260424T114255Z
UID:718a39b1d46e4e9abd95a1d1dfd25c86@portal.unila.edu.br
CREATED;VALUE=DATE-TIME:20240919T124455Z
DESCRIPTION:Na segunda-feira (23)\, a PROPLAN realiza a terceira audiênci
 a sobre os cinco eixos para a construção do PDI 2025-2029. Esse próximo
  encontro abordará o tema Extensão.
LAST-MODIFIED;VALUE=DATE-TIME:20240919T125058Z
LOCATION:Auditório da UNILA-Campus Integração
URL:https://portal.unila.edu.br/eventos/audiencia-publica-plano-de-desenvo
 lvimento-institucional-1
END:VEVENT
BEGIN:VTIMEZONE
TZID:America/Buenos_Aires
X-LIC-LOCATION:America/Buenos_Aires
BEGIN:STANDARD
DTSTART;VALUE=DATE-TIME:20090314T230000
TZNAME:ART
TZOFFSETFROM:-0200
TZOFFSETTO:-0300
END:STANDARD
END:VTIMEZONE
END:VCALENDAR
