BEGIN:VCALENDAR
VERSION:2.0
PRODID:-//Plone.org//NONSGML plone.app.event//EN
X-WR-TIMEZONE:America/Buenos_Aires
BEGIN:VEVENT
SUMMARY:Atividades de Lançamento da Cátedra Sérgio Vieira de Mello (CSV
 M-Acnur) da UNILA
DTSTART;VALUE=DATE:20220919
DTEND;VALUE=DATE:20220920
DTSTAMP;VALUE=DATE-TIME:20260424T112604Z
UID:4ddf1555aca0427d8824c5feb914ec9d@portal.unila.edu.br
CONTACT:(45) 9.9999.9376\, https://docs.google.com/forms/d/e/1FAIpQLSdthf0
 amYZKYgdM6qrj4hqyc9U9ve69aFj8oRy0iL-sWui8mg/viewform
CREATED;VALUE=DATE-TIME:20220909T123221Z
DESCRIPTION:As atividades fazem parte da programação do Congresso Latino
 -Americano de Direitos Humanos
LAST-MODIFIED;VALUE=DATE-TIME:20220909T123402Z
URL:https://portal.unila.edu.br/eventos/atividades-de-lancamento-da-catedr
 a-sergio-vieira-de-mello-csvm-acnur-da-unila
END:VEVENT
END:VCALENDAR
