BEGIN:VCALENDAR
VERSION:2.0
PRODID:-//Plone.org//NONSGML plone.app.event//EN
X-WR-TIMEZONE:America/Buenos_Aires
BEGIN:VEVENT
SUMMARY:Atividade de recepção aos ingressantes do PPG-ICAL
DTSTART;TZID=America/Sao_Paulo;VALUE=DATE-TIME:20200309T140000
DTEND;TZID=America/Sao_Paulo;VALUE=DATE-TIME:20200309T170000
DTSTAMP;VALUE=DATE-TIME:20260422T125554Z
UID:c1080fc42ce3458cb397f35d483c2372@portal.unila.edu.br
CATEGORIES:mestrado integração
CREATED;VALUE=DATE-TIME:20200227T180618Z
DESCRIPTION:A coordenação do Programa de Pós-Graduação em Integraçã
 o Contemporânea da América Latina promove atividade no dia 9 de março\,
  na UNILA-PTI
LAST-MODIFIED;VALUE=DATE-TIME:20200227T181141Z
LOCATION:Bloco 14\, Espaço 4 - UNILA-PTI (Avenida Tancredo Neves\, 6731)
URL:https://portal.unila.edu.br/eventos/atividade-de-recepcao-aos-ingressa
 ntes-do-ppg-ical
END:VEVENT
BEGIN:VTIMEZONE
TZID:America/Sao_Paulo
X-LIC-LOCATION:America/Sao_Paulo
BEGIN:STANDARD
DTSTART;VALUE=DATE-TIME:20200215T230000
TZNAME:BRT
TZOFFSETFROM:-0200
TZOFFSETTO:-0300
END:STANDARD
END:VTIMEZONE
END:VCALENDAR
