BEGIN:VCALENDAR
VERSION:2.0
PRODID:-//Plone.org//NONSGML plone.app.event//EN
X-WR-TIMEZONE:America/Buenos_Aires
BEGIN:VEVENT
SUMMARY:Arraiá das Capivaras
DTSTART;TZID=America/Buenos_Aires;VALUE=DATE-TIME:20240810T160000
DTEND;TZID=America/Buenos_Aires;VALUE=DATE-TIME:20240810T220000
DTSTAMP;VALUE=DATE-TIME:20260423T210016Z
UID:2e0ab3fdcf074fa2bd3dbea0f2f025be@portal.unila.edu.br
CREATED;VALUE=DATE-TIME:20240806T151257Z
DESCRIPTION:Evento será realizado neste sábado (10)\, das 16h às 22h\, 
 no Ginásio da Unidade Jardim Universitário
LAST-MODIFIED;VALUE=DATE-TIME:20240806T151522Z
LOCATION:UNILA-Jardim Universitário - Ginásio
URL:https://portal.unila.edu.br/eventos/arraia-das-capivaras-1
END:VEVENT
BEGIN:VTIMEZONE
TZID:America/Buenos_Aires
X-LIC-LOCATION:America/Buenos_Aires
BEGIN:STANDARD
DTSTART;VALUE=DATE-TIME:20090314T230000
TZNAME:ART
TZOFFSETFROM:-0200
TZOFFSETTO:-0300
END:STANDARD
END:VTIMEZONE
END:VCALENDAR
