BEGIN:VCALENDAR
VERSION:2.0
PRODID:-//Plone.org//NONSGML plone.app.event//EN
X-WR-TIMEZONE:America/Buenos_Aires
BEGIN:VEVENT
SUMMARY:Apresentação teatral "La Bruja y Don Cristóbal"
DTSTART;TZID=America/Buenos_Aires;VALUE=DATE-TIME:20250813T193000
DTSTAMP;VALUE=DATE-TIME:20260424T051017Z
UID:92cd1e0114a54d378734f0935a11621b@portal.unila.edu.br
CREATED;VALUE=DATE-TIME:20250811T115253Z
DESCRIPTION:UNILA traz companhia espanhola de teatro de marionetes para ap
 resentação em Foz do Iguaçu. Espetáculo "La Bruja y Don Cristóbal" se
 rá realizado no dia 13 de agosto.
LAST-MODIFIED;VALUE=DATE-TIME:20250811T123315Z
LOCATION:Unioeste - Campus Foz do Iguaçu
URL:https://portal.unila.edu.br/eventos/apresentacao-teatral-1
END:VEVENT
BEGIN:VTIMEZONE
TZID:America/Buenos_Aires
X-LIC-LOCATION:America/Buenos_Aires
BEGIN:STANDARD
DTSTART;VALUE=DATE-TIME:20090314T230000
TZNAME:ART
TZOFFSETFROM:-0200
TZOFFSETTO:-0300
END:STANDARD
END:VTIMEZONE
END:VCALENDAR
