BEGIN:VCALENDAR
VERSION:2.0
PRODID:-//Plone.org//NONSGML plone.app.event//EN
X-WR-TIMEZONE:America/Buenos_Aires
BEGIN:VEVENT
SUMMARY:Apresentação do relatório de violência contra os povos indíge
 nas - Dados 2023
DTSTART;TZID=America/Buenos_Aires;VALUE=DATE-TIME:20240808T190000
DTSTAMP;VALUE=DATE-TIME:20260423T225837Z
UID:a6c9335582394e459e7957208660564f@portal.unila.edu.br
CREATED;VALUE=DATE-TIME:20240805T195308Z
DESCRIPTION:Apresentação e debate sobre os dados ocorre no dia 08 de ago
 sto\, às 19h\, no auditório do Jardim Universitário
LAST-MODIFIED;VALUE=DATE-TIME:20240805T195313Z
LOCATION:Auditório da UNILA-Jardim Universitário (Avenida Tarquínio Jos
 lin dos Santos\, 1000)
URL:https://portal.unila.edu.br/eventos/apresentacao-do-relatorio-de-viole
 ncia-contra-os-povos-indigenas-dados-2023
END:VEVENT
BEGIN:VTIMEZONE
TZID:America/Buenos_Aires
X-LIC-LOCATION:America/Buenos_Aires
BEGIN:STANDARD
DTSTART;VALUE=DATE-TIME:20090314T230000
TZNAME:ART
TZOFFSETFROM:-0200
TZOFFSETTO:-0300
END:STANDARD
END:VTIMEZONE
END:VCALENDAR
