BEGIN:VCALENDAR
VERSION:2.0
PRODID:-//Plone.org//NONSGML plone.app.event//EN
X-WR-TIMEZONE:America/Buenos_Aires
BEGIN:VEVENT
SUMMARY:Apresentação de patinação
DTSTART;TZID=America/Buenos_Aires;VALUE=DATE-TIME:20241207T190000
DTSTAMP;VALUE=DATE-TIME:20260423T133535Z
UID:5cab5e3b5a784c4fb6530b906a8bdadf@portal.unila.edu.br
CREATED;VALUE=DATE-TIME:20241129T110927Z
DESCRIPTION:No dia 7 de dezembro\, o ginásio da Unidade Jardim Universit
 ário recebe a apresentação de patinação infantil\, organizada pela Es
 cola Salutem.
LAST-MODIFIED;VALUE=DATE-TIME:20241129T111009Z
LOCATION:UNILA - Jardim Universitário
URL:https://portal.unila.edu.br/eventos/apresentacao-de-patinacao
END:VEVENT
BEGIN:VTIMEZONE
TZID:America/Buenos_Aires
X-LIC-LOCATION:America/Buenos_Aires
BEGIN:STANDARD
DTSTART;VALUE=DATE-TIME:20090314T230000
TZNAME:ART
TZOFFSETFROM:-0200
TZOFFSETTO:-0300
END:STANDARD
END:VTIMEZONE
END:VCALENDAR
