BEGIN:VCALENDAR
VERSION:2.0
PRODID:-//Plone.org//NONSGML plone.app.event//EN
X-WR-TIMEZONE:America/Buenos_Aires
BEGIN:VEVENT
SUMMARY:Lançamento do Livro: "China en América Latina y el Caribe: ¿nue
 vas rutas para una vieja dependencia?"
DTSTART;TZID=America/Buenos_Aires;VALUE=DATE-TIME:20250416T190000
DTSTAMP;VALUE=DATE-TIME:20260424T114447Z
UID:cb566472e40a4a9f97eb87633047d8a4@portal.unila.edu.br
CREATED;VALUE=DATE-TIME:20250403T180405Z
DESCRIPTION:A apresentação será conduzida pelo professor Fernando Romer
 o\, e a mediação ficará a cargo da professora Ana Carolina Delgado.
LAST-MODIFIED;VALUE=DATE-TIME:20250404T185402Z
LOCATION:UNILA - Campus Integração
URL:https://portal.unila.edu.br/eventos/ancamento-do-livro-china-en-americ
 a-latina-y-el-caribe-nuevas-rutas-para-una-vieja-dependencia
END:VEVENT
BEGIN:VTIMEZONE
TZID:America/Buenos_Aires
X-LIC-LOCATION:America/Buenos_Aires
BEGIN:STANDARD
DTSTART;VALUE=DATE-TIME:20090314T230000
TZNAME:ART
TZOFFSETFROM:-0200
TZOFFSETTO:-0300
END:STANDARD
END:VTIMEZONE
END:VCALENDAR
