BEGIN:VCALENDAR
VERSION:2.0
PRODID:-//Plone.org//NONSGML plone.app.event//EN
X-WR-TIMEZONE:America/Buenos_Aires
BEGIN:VEVENT
SUMMARY:Aluno ouvinte para o mestrado de Literatura Comparada
DTSTART;TZID=America/Sao_Paulo;VALUE=DATE-TIME:20190808T160000
DTEND;TZID=America/Sao_Paulo;VALUE=DATE-TIME:20190812T235900
DTSTAMP;VALUE=DATE-TIME:20260421T175412Z
UID:5ce1a821add844609f91775f60a2cbc3@portal.unila.edu.br
CATEGORIES:mestrado literatura
CATEGORIES:pós-graduação
CATEGORIES:prppg
CREATED;VALUE=DATE-TIME:20190808T193442Z
DESCRIPTION:As inscrições para o seminário “Estrangeiro e alteridade 
 em O império dos Signos\, de Roland Barthes” podem ser feitas de 8 a 12
  de agosto
LAST-MODIFIED;VALUE=DATE-TIME:20190809T155618Z
LOCATION:UNILA - Jardim Universitário
URL:https://portal.unila.edu.br/eventos/aluno-ouvinte-para-o-mestrado-de-l
 iteratura-comparada
END:VEVENT
BEGIN:VTIMEZONE
TZID:America/Sao_Paulo
X-LIC-LOCATION:America/Sao_Paulo
BEGIN:STANDARD
DTSTART;VALUE=DATE-TIME:20190216T230000
TZNAME:BRT
TZOFFSETFROM:-0200
TZOFFSETTO:-0300
END:STANDARD
END:VTIMEZONE
END:VCALENDAR
