BEGIN:VCALENDAR
VERSION:2.0
PRODID:-//Plone.org//NONSGML plone.app.event//EN
X-WR-TIMEZONE:America/Buenos_Aires
BEGIN:VEVENT
SUMMARY:Aglomero Teatral IV
DTSTART;VALUE=DATE:20241208
DTEND;VALUE=DATE:20241214
DTSTAMP;VALUE=DATE-TIME:20260424T084105Z
UID:2c9d8d40a94744f4992624b520b7e9db@portal.unila.edu.br
CREATED;VALUE=DATE-TIME:20241205T105505Z
DESCRIPTION:O Cote’Coi – Coletivo Teatral e seus parceiros promovem o 
 Aglomero Teatral IV\, um evento que reúne diversas apresentações de esp
 etáculos teatrais\, processos criativos do coletivo\, espetáculos convid
 ados e produções das oficinas do Projeto Foz Fazendo Arte.
LAST-MODIFIED;VALUE=DATE-TIME:20241205T131656Z
URL:https://portal.unila.edu.br/eventos/aglomero-teatral-iv
END:VEVENT
END:VCALENDAR
