BEGIN:VCALENDAR
VERSION:2.0
PRODID:-//Plone.org//NONSGML plone.app.event//EN
X-WR-TIMEZONE:America/Buenos_Aires
BEGIN:VEVENT
SUMMARY:Março das mulheres: agenda unificada de eventos temáticos
DTSTART;VALUE=DATE:20250306
DTEND;VALUE=DATE:20250331
DTSTAMP;VALUE=DATE-TIME:20260423T190818Z
UID:06d1dd1a01684df2a6358c11fe06b988@portal.unila.edu.br
CREATED;VALUE=DATE-TIME:20250228T115243Z
DESCRIPTION:Nesta semana\, a agenda inclui\, no dia 25\, duas oficinas e u
 ma roda de conversa. De 26 a 29 de março\, acontecem o Encontro de Mulher
 es Amefricanas e o Encontro Entre Fronteiras e\, no dia 30\, haverá um re
 cital de piano.
LAST-MODIFIED;VALUE=DATE-TIME:20250328T155934Z
URL:https://portal.unila.edu.br/eventos/agenda-unificada-de-eventos-temati
 cos-marco-das-mulheres
END:VEVENT
END:VCALENDAR
