BEGIN:VCALENDAR
VERSION:2.0
PRODID:-//Plone.org//NONSGML plone.app.event//EN
X-WR-TIMEZONE:America/Buenos_Aires
BEGIN:VEVENT
SUMMARY:9º Encontro Anual de Iniciação Científica e 5º Encontro Anual
  de Iniciação em Desenvolvimento Tecnológico e Inovação – EICTI 202
 0
DTSTART;TZID=America/Sao_Paulo;VALUE=DATE-TIME:20210407T100000
DTEND;TZID=America/Sao_Paulo;VALUE=DATE-TIME:20210409T120000
DTSTAMP;VALUE=DATE-TIME:20260422T131819Z
UID:72e2575116c542c99ef7c782185866b9@portal.unila.edu.br
CREATED;VALUE=DATE-TIME:20210318T131833Z
DESCRIPTION:Evento será realizado entre os dias 7 e 9 de abril\, de forma
  virtual
LAST-MODIFIED;VALUE=DATE-TIME:20210406T205002Z
URL:https://portal.unila.edu.br/eventos/9o-encontro-anual-de-iniciacao-cie
 ntifica-e-5o-encontro-anual-de-iniciacao-em-desenvolvimento-tecnologico-e-
 inovacao-2013-eicti-2020
END:VEVENT
BEGIN:VTIMEZONE
TZID:America/Sao_Paulo
X-LIC-LOCATION:America/Sao_Paulo
BEGIN:STANDARD
DTSTART;VALUE=DATE-TIME:20210220T230000
TZNAME:BRT
TZOFFSETFROM:-0200
TZOFFSETTO:-0300
END:STANDARD
END:VTIMEZONE
END:VCALENDAR
