BEGIN:VCALENDAR
VERSION:2.0
PRODID:-//Plone.org//NONSGML plone.app.event//EN
X-WR-TIMEZONE:America/Buenos_Aires
BEGIN:VEVENT
SUMMARY:6° Simpósio Madeira & Construção
DTSTART;TZID=America/Buenos_Aires;VALUE=DATE-TIME:20220510T080000
DTEND;TZID=America/Buenos_Aires;VALUE=DATE-TIME:20220511T180000
DTSTAMP;VALUE=DATE-TIME:20260423T224923Z
UID:415d2dda6d544f6b9bbbc9a32c693e88@portal.unila.edu.br
CREATED;VALUE=DATE-TIME:20220426T131647Z
LAST-MODIFIED;VALUE=DATE-TIME:20220426T131659Z
LOCATION:https://docs.google.com/forms/d/e/1FAIpQLScxrJKXsSd1nMsDdQwj
URL:https://portal.unila.edu.br/eventos/6deg-simposio-madeira-construcao
END:VEVENT
BEGIN:VTIMEZONE
TZID:America/Buenos_Aires
X-LIC-LOCATION:America/Buenos_Aires
BEGIN:STANDARD
DTSTART;VALUE=DATE-TIME:20090314T230000
TZNAME:ART
TZOFFSETFROM:-0200
TZOFFSETTO:-0300
END:STANDARD
END:VTIMEZONE
END:VCALENDAR
