BEGIN:VCALENDAR
VERSION:2.0
PRODID:-//Plone.org//NONSGML plone.app.event//EN
X-WR-TIMEZONE:America/Buenos_Aires
BEGIN:VEVENT
SUMMARY:6ª Semana Acadêmica de Química
DTSTART;TZID=America/Sao_Paulo;VALUE=DATE-TIME:20210503T190000
DTEND;TZID=America/Sao_Paulo;VALUE=DATE-TIME:20210503T223000
DTSTAMP;VALUE=DATE-TIME:20260422T070546Z
UID:bb29262c954e40aa8c976400f7254713@portal.unila.edu.br
CATEGORIES:química
CREATED;VALUE=DATE-TIME:20210414T164711Z
DESCRIPTION:As atividades serão realizadas entre os dias 3 e 7 de maio\, 
 de forma remota
LAST-MODIFIED;VALUE=DATE-TIME:20210506T183155Z
URL:https://portal.unila.edu.br/eventos/6a-semana-academica-de-quimica
END:VEVENT
BEGIN:VTIMEZONE
TZID:America/Sao_Paulo
X-LIC-LOCATION:America/Sao_Paulo
BEGIN:STANDARD
DTSTART;VALUE=DATE-TIME:20210220T230000
TZNAME:BRT
TZOFFSETFROM:-0200
TZOFFSETTO:-0300
END:STANDARD
END:VTIMEZONE
END:VCALENDAR
