BEGIN:VCALENDAR
VERSION:2.0
PRODID:-//Plone.org//NONSGML plone.app.event//EN
X-WR-TIMEZONE:America/Buenos_Aires
BEGIN:VEVENT
SUMMARY:5º Seminário Nacional de Geografia Econômica e Social
DTSTART;TZID=America/Buenos_Aires;VALUE=DATE-TIME:20240812T190000
DTEND;TZID=America/Buenos_Aires;VALUE=DATE-TIME:20240816T220000
DTSTAMP;VALUE=DATE-TIME:20260423T230954Z
UID:3ef65221245a49ce91f89be9f5a0b942@portal.unila.edu.br
CREATED;VALUE=DATE-TIME:20240806T123345Z
DESCRIPTION:O objetivo do evento é divulgar e aplicar as ideias do econom
 ista Ignácio de Mourão Rangel (1914-1994) em pesquisas e estudos realiza
 dos\, no âmbito da graduação e pós-graduação.
LAST-MODIFIED;VALUE=DATE-TIME:20240806T123503Z
LOCATION:UNILA - Campus Integração (Avenida Tancredo Neves\, 3147 - Port
 o Belo)
URL:https://portal.unila.edu.br/eventos/5o-seminario-nacional-de-geografia
 -economica-e-social
END:VEVENT
BEGIN:VTIMEZONE
TZID:America/Buenos_Aires
X-LIC-LOCATION:America/Buenos_Aires
BEGIN:STANDARD
DTSTART;VALUE=DATE-TIME:20090314T230000
TZNAME:ART
TZOFFSETFROM:-0200
TZOFFSETTO:-0300
END:STANDARD
END:VTIMEZONE
END:VCALENDAR
