BEGIN:VCALENDAR
VERSION:2.0
PRODID:-//Plone.org//NONSGML plone.app.event//EN
X-WR-TIMEZONE:America/Buenos_Aires
BEGIN:VEVENT
SUMMARY:5º Encontro RPG Unileiro
DTSTART;TZID=America/Buenos_Aires;VALUE=DATE-TIME:20230820T150000
DTSTAMP;VALUE=DATE-TIME:20260423T115051Z
UID:a073c2683d2c48bcaaa84e93d8bffbc8@portal.unila.edu.br
CONTACT:https://instagram.com/rpgunileiro?igshid=ZDdkNTZiNT
CREATED;VALUE=DATE-TIME:20230817T151601Z
DESCRIPTION:Encontro de RPG organizados por estudantes acontece neste domi
 ngo (20)\, às 15h\, no Campus Integração.
LAST-MODIFIED;VALUE=DATE-TIME:20230817T151608Z
URL:https://portal.unila.edu.br/eventos/5o-encontro-rpg-unileiro
END:VEVENT
BEGIN:VTIMEZONE
TZID:America/Buenos_Aires
X-LIC-LOCATION:America/Buenos_Aires
BEGIN:STANDARD
DTSTART;VALUE=DATE-TIME:20090314T230000
TZNAME:ART
TZOFFSETFROM:-0200
TZOFFSETTO:-0300
END:STANDARD
END:VTIMEZONE
END:VCALENDAR
