BEGIN:VCALENDAR
VERSION:2.0
PRODID:-//Plone.org//NONSGML plone.app.event//EN
X-WR-TIMEZONE:America/Buenos_Aires
BEGIN:VEVENT
SUMMARY:5ª Competição de Pontes de Macarrão
DTSTART;TZID=America/Buenos_Aires;VALUE=DATE-TIME:20251128T133000
DTSTAMP;VALUE=DATE-TIME:20260423T133608Z
UID:eba15c10d92145f5a487033a7b4c1395@portal.unila.edu.br
CREATED;VALUE=DATE-TIME:20251126T105918Z
DESCRIPTION:Evento será no dia 28 de novembro\, às 13h30\, no Itaipu Par
 quetec.
LAST-MODIFIED;VALUE=DATE-TIME:20251126T110005Z
LOCATION:ITAIPU Parquetec
URL:https://portal.unila.edu.br/eventos/5a-competicao-de-pontes-de-macarra
 o
END:VEVENT
BEGIN:VTIMEZONE
TZID:America/Buenos_Aires
X-LIC-LOCATION:America/Buenos_Aires
BEGIN:STANDARD
DTSTART;VALUE=DATE-TIME:20090314T230000
TZNAME:ART
TZOFFSETFROM:-0200
TZOFFSETTO:-0300
END:STANDARD
END:VTIMEZONE
END:VCALENDAR
