BEGIN:VCALENDAR
VERSION:2.0
PRODID:-//Plone.org//NONSGML plone.app.event//EN
X-WR-TIMEZONE:America/Buenos_Aires
BEGIN:VEVENT
SUMMARY:4º Seminário da Pós-graduação Interdisciplinar em Energia e S
 ustentabilidade
DTSTART;VALUE=DATE:20231205
DTEND;VALUE=DATE:20231209
DTSTAMP;VALUE=DATE-TIME:20260423T202258Z
UID:286a0277569145f98dd6bfd3b2548a4a@portal.unila.edu.br
CONTACT:https://www.even3.com.br/4-seminario-da-pos-graduacao-interdiscipl
 inar-em-energia-e-sustentabilidade-337853/
CREATED;VALUE=DATE-TIME:20231101T125626Z
DESCRIPTION:Seminário abordará temática da sustentabilidade e acontece 
 de 5 a 8 de dezembro\, no Parque Tecnológico Itaipu (PTI)
LAST-MODIFIED;VALUE=DATE-TIME:20231101T125642Z
LOCATION:UNILA-PTI - Auditório Cesar Lattes
URL:https://portal.unila.edu.br/eventos/4o-seminario-da-pos-graduacao-inte
 rdisciplinar-em-energia-e-sustentabilidade
END:VEVENT
END:VCALENDAR
