BEGIN:VCALENDAR
VERSION:2.0
PRODID:-//Plone.org//NONSGML plone.app.event//EN
X-WR-TIMEZONE:America/Buenos_Aires
BEGIN:VEVENT
SUMMARY:4ª Semana Acadêmica de Química
DTSTART;VALUE=DATE:20181107
DTEND;VALUE=DATE:20181110
DTSTAMP;VALUE=DATE-TIME:20260424T045406Z
UID:ff6218cd2ef14f9c8783d3455b97fea1@tibagi.unila
CONTACT:https://caunilamalavoisier.wixsite.com/quimicaunila
CREATED;VALUE=DATE-TIME:20181031T201131Z
DESCRIPTION:Semana Acadêmica de Química
LAST-MODIFIED;VALUE=DATE-TIME:20190112T022528Z
LOCATION:PTI
URL:https://portal.unila.edu.br/eventos/4a-semana-academica-de-quimica
END:VEVENT
END:VCALENDAR
