BEGIN:VCALENDAR
VERSION:2.0
PRODID:-//Plone.org//NONSGML plone.app.event//EN
X-WR-TIMEZONE:America/Buenos_Aires
BEGIN:VEVENT
SUMMARY:3º Seminário Internacional do PPGIES
DTSTART;TZID=America/Buenos_Aires;VALUE=DATE-TIME:20220920T140000
DTEND;TZID=America/Buenos_Aires;VALUE=DATE-TIME:20220922T220000
DTSTAMP;VALUE=DATE-TIME:20260423T225028Z
UID:70f92679ee4e4b4492910f29217432c7@portal.unila.edu.br
CONTACT:https://www.even3.com.br/3seminarioppgies/
CREATED;VALUE=DATE-TIME:20220822T194834Z
DESCRIPTION:Seminário promovido pelo Programa de Pós-Graduação Interdi
 sciplinar em Energia e Sustentabilidade terá como temática: “Desafios 
 e Soluções para um mundo mais Sustentável”
LAST-MODIFIED;VALUE=DATE-TIME:20220822T194842Z
LOCATION:Jardim Universitário - Auditório - C309
URL:https://portal.unila.edu.br/eventos/3o-seminario-internacional-do-ppgi
 es
END:VEVENT
BEGIN:VTIMEZONE
TZID:America/Buenos_Aires
X-LIC-LOCATION:America/Buenos_Aires
BEGIN:STANDARD
DTSTART;VALUE=DATE-TIME:20090314T230000
TZNAME:ART
TZOFFSETFROM:-0200
TZOFFSETTO:-0300
END:STANDARD
END:VTIMEZONE
END:VCALENDAR
