BEGIN:VCALENDAR
VERSION:2.0
PRODID:-//Plone.org//NONSGML plone.app.event//EN
X-WR-TIMEZONE:America/Buenos_Aires
BEGIN:VEVENT
SUMMARY:3º Colóquio de Geopolítica Energética
DTSTART;TZID=America/Sao_Paulo;VALUE=DATE-TIME:20211216T090000
DTEND;TZID=America/Sao_Paulo;VALUE=DATE-TIME:20211217T213000
DTSTAMP;VALUE=DATE-TIME:20260423T225133Z
UID:642bd42a1c7d449aa3a34745dc3f87ca@portal.unila.edu.br
CREATED;VALUE=DATE-TIME:20211130T185705Z
DESCRIPTION:Com o tema "Crise energética\, desigualdade e soberania"\, ev
 ento será realizado nos dias 16 e 17 de dezembro
LAST-MODIFIED;VALUE=DATE-TIME:20211130T190929Z
URL:https://portal.unila.edu.br/eventos/3o-coloquio-de-geopolitica-energet
 ica
END:VEVENT
BEGIN:VTIMEZONE
TZID:America/Sao_Paulo
X-LIC-LOCATION:America/Sao_Paulo
BEGIN:DAYLIGHT
DTSTART;VALUE=DATE-TIME:20211017T010000
TZNAME:BRST
TZOFFSETFROM:-0300
TZOFFSETTO:-0200
END:DAYLIGHT
END:VTIMEZONE
END:VCALENDAR
