BEGIN:VCALENDAR
VERSION:2.0
PRODID:-//Plone.org//NONSGML plone.app.event//EN
X-WR-TIMEZONE:America/Buenos_Aires
BEGIN:VEVENT
SUMMARY:3º Colóquio de Estudos Ecocríticos
DTSTART;TZID=America/Sao_Paulo;VALUE=DATE-TIME:20210904T093000
DTEND;TZID=America/Sao_Paulo;VALUE=DATE-TIME:20210904T113000
DTSTAMP;VALUE=DATE-TIME:20260423T224936Z
UID:4dace91a34674712931d3ae42b2dd5ad@portal.unila.edu.br
CATEGORIES:mestrado literatura
CREATED;VALUE=DATE-TIME:20210901T180634Z
DESCRIPTION:Promovido pelo Programa de Pós-Graduação em Literatura Comp
 arada\, evento será realizado ao longo do mês de setembro\; primeira mes
 a de debates será neste sábado (4)
LAST-MODIFIED;VALUE=DATE-TIME:20210901T181939Z
URL:https://portal.unila.edu.br/eventos/3o-coloquio-de-estudos-ecocriticos
END:VEVENT
BEGIN:VTIMEZONE
TZID:America/Sao_Paulo
X-LIC-LOCATION:America/Sao_Paulo
BEGIN:STANDARD
DTSTART;VALUE=DATE-TIME:20210220T230000
TZNAME:BRT
TZOFFSETFROM:-0200
TZOFFSETTO:-0300
END:STANDARD
END:VTIMEZONE
END:VCALENDAR
