BEGIN:VCALENDAR
VERSION:2.0
PRODID:-//Plone.org//NONSGML plone.app.event//EN
X-WR-TIMEZONE:America/Buenos_Aires
BEGIN:VEVENT
SUMMARY:3º Colóquio de Estudos Ecocríticos
DTSTART;TZID=America/Sao_Paulo;VALUE=DATE-TIME:20210925T093000
DTEND;TZID=America/Sao_Paulo;VALUE=DATE-TIME:20210925T113000
DTSTAMP;VALUE=DATE-TIME:20260423T174629Z
UID:a4508d0d56c7455898ad52947d05cd81@portal.unila.edu.br
CATEGORIES:mestrado literatura
CREATED;VALUE=DATE-TIME:20210901T180739Z
DESCRIPTION:Mesa de debates que encerra o evento será no dia 25 de setemb
 ro\, às 9h30\; organização é do Programa de Pós-Graduação em Litera
 tura Comparada
LAST-MODIFIED;VALUE=DATE-TIME:20210901T183458Z
URL:https://portal.unila.edu.br/eventos/3o-coloquio-de-estudos-ecocriticos
 -3
END:VEVENT
BEGIN:VTIMEZONE
TZID:America/Sao_Paulo
X-LIC-LOCATION:America/Sao_Paulo
BEGIN:STANDARD
DTSTART;VALUE=DATE-TIME:20210220T230000
TZNAME:BRT
TZOFFSETFROM:-0200
TZOFFSETTO:-0300
END:STANDARD
END:VTIMEZONE
END:VCALENDAR
