BEGIN:VCALENDAR
VERSION:2.0
PRODID:-//Plone.org//NONSGML plone.app.event//EN
X-WR-TIMEZONE:America/Buenos_Aires
BEGIN:VEVENT
SUMMARY:3ª Semana Integrada de Ensino\, Pesquisa e Extensão
DTSTART;TZID=America/Sao_Paulo;VALUE=DATE-TIME:20211123T090000
DTEND;TZID=America/Sao_Paulo;VALUE=DATE-TIME:20211126T220000
DTSTAMP;VALUE=DATE-TIME:20260422T070546Z
UID:5c866f14c63a4180a757361947dd3793@portal.unila.edu.br
CATEGORIES:ensino
CATEGORIES:pesquisa
CATEGORIES:extensão
CREATED;VALUE=DATE-TIME:20211104T124830Z
DESCRIPTION:Com o tema "A transversalidade da ciência\, tecnologia e inov
 ação no ensino\, pesquisa e extensão"\, a 3ª SIEPE será de 23 a 26 de
  novembro\, em formato virtual
LAST-MODIFIED;VALUE=DATE-TIME:20211125T154932Z
URL:https://portal.unila.edu.br/eventos/3a-semana-integrada-de-ensino-pesq
 uisa-e-extensao
END:VEVENT
BEGIN:VTIMEZONE
TZID:America/Sao_Paulo
X-LIC-LOCATION:America/Sao_Paulo
BEGIN:DAYLIGHT
DTSTART;VALUE=DATE-TIME:20211017T010000
TZNAME:BRST
TZOFFSETFROM:-0300
TZOFFSETTO:-0200
END:DAYLIGHT
END:VTIMEZONE
END:VCALENDAR
