BEGIN:VCALENDAR
VERSION:2.0
PRODID:-//Plone.org//NONSGML plone.app.event//EN
X-WR-TIMEZONE:America/Buenos_Aires
BEGIN:VEVENT
SUMMARY:3ª Semana Acadêmica de Arquitetura e Urbanismo (SAAU)
DTSTART;TZID=America/Sao_Paulo;VALUE=DATE-TIME:20191007T083000
DTEND;TZID=America/Sao_Paulo;VALUE=DATE-TIME:20191011T173000
DTSTAMP;VALUE=DATE-TIME:20260422T125051Z
UID:8d5dc1368d0442baae19b4e0d69e1364@portal.unila.edu.br
CATEGORIES:arquitetura
CREATED;VALUE=DATE-TIME:20191001T165758Z
DESCRIPTION:Com o tema "Construindo em harmonia con la Madre Tierra"\, 3ª
  SAAU será entre os dias 7 e 11 de outubro
LAST-MODIFIED;VALUE=DATE-TIME:20191001T172112Z
LOCATION:UNILA-PTI (Avenida Tancredo Neves\, 6731)
URL:https://portal.unila.edu.br/eventos/3a-semana-academica-de-arquitetura
 -e-urbanismo-saau
END:VEVENT
BEGIN:VTIMEZONE
TZID:America/Sao_Paulo
X-LIC-LOCATION:America/Sao_Paulo
BEGIN:STANDARD
DTSTART;VALUE=DATE-TIME:20190216T230000
TZNAME:BRT
TZOFFSETFROM:-0200
TZOFFSETTO:-0300
END:STANDARD
END:VTIMEZONE
END:VCALENDAR
