BEGIN:VCALENDAR
VERSION:2.0
PRODID:-//Plone.org//NONSGML plone.app.event//EN
X-WR-TIMEZONE:America/Buenos_Aires
BEGIN:VEVENT
SUMMARY:3ª Semana Acadêmica da Licenciatura em Matemática
DTSTART;TZID=America/Sao_Paulo;VALUE=DATE-TIME:20190911T080000
DTEND;TZID=America/Sao_Paulo;VALUE=DATE-TIME:20190913T180000
DTSTAMP;VALUE=DATE-TIME:20260422T070831Z
UID:58d5a08566874acc93bc9a20afe9e458@portal.unila.edu.br
CATEGORIES:matemática
CREATED;VALUE=DATE-TIME:20190725T202214Z
DESCRIPTION:O colegiado do curso de Matemática da UNILA organiza evento v
 oltado a profissionais e estudantes da área
LAST-MODIFIED;VALUE=DATE-TIME:20190902T165542Z
LOCATION:UNILA - Jardim Universitário (Avenida Tarquínio Joslin dos Sant
 os\, 1000)
URL:https://portal.unila.edu.br/eventos/3a-semana-academica-da-licenciatur
 a-em-matematica
END:VEVENT
BEGIN:VTIMEZONE
TZID:America/Sao_Paulo
X-LIC-LOCATION:America/Sao_Paulo
BEGIN:STANDARD
DTSTART;VALUE=DATE-TIME:20190216T230000
TZNAME:BRT
TZOFFSETFROM:-0200
TZOFFSETTO:-0300
END:STANDARD
END:VTIMEZONE
END:VCALENDAR
