BEGIN:VCALENDAR
VERSION:2.0
PRODID:-//Plone.org//NONSGML plone.app.event//EN
X-WR-TIMEZONE:America/Buenos_Aires
BEGIN:VEVENT
SUMMARY:3 Margens - Festival Latino-Americano de Cinema
DTSTART;TZID=America/Sao_Paulo;VALUE=DATE-TIME:20191124T130000
DTEND;TZID=America/Sao_Paulo;VALUE=DATE-TIME:20191129T140000
DTSTAMP;VALUE=DATE-TIME:20260422T155356Z
UID:4d4f01750f924dc3879a4f9c7ef3ffb4@portal.unila.edu.br
CATEGORIES:cinema
CREATED;VALUE=DATE-TIME:20191126T153406Z
DESCRIPTION:A terceira edição do festival ocorre entre os dias 24 e 29 d
 e novembro\, na Fronteira Trinacional
LAST-MODIFIED;VALUE=DATE-TIME:20191126T153925Z
LOCATION:Diversos locais - confira a programação
URL:https://portal.unila.edu.br/eventos/3-margens-festival-latino-american
 o-de-cinema
END:VEVENT
BEGIN:VTIMEZONE
TZID:America/Sao_Paulo
X-LIC-LOCATION:America/Sao_Paulo
BEGIN:DAYLIGHT
DTSTART;VALUE=DATE-TIME:20191020T010000
TZNAME:BRST
TZOFFSETFROM:-0300
TZOFFSETTO:-0200
END:DAYLIGHT
END:VTIMEZONE
END:VCALENDAR
