BEGIN:VCALENDAR
VERSION:2.0
PRODID:-//Plone.org//NONSGML plone.app.event//EN
X-WR-TIMEZONE:America/Buenos_Aires
BEGIN:VEVENT
SUMMARY:2º Seminário Internacional do IMEA
DTSTART;VALUE=DATE:20241112
DTEND;VALUE=DATE:20241115
DTSTAMP;VALUE=DATE-TIME:20260423T210135Z
UID:54172f58b225443497e7eae376ffc982@portal.unila.edu.br
CONTACT:https://sig.unila.edu.br/eventos/public/evento/IISemIMEA/pagina/ap
 resentacao
CREATED;VALUE=DATE-TIME:20241101T104601Z
DESCRIPTION:De 12 a 14 de novembro\, será realizada a segunda edição do
  Seminário Internacional do Instituto Mercosul de Estudos Avançados. Eve
 nto terá como temática “Complexidade e Encontro de Saberes”.
LAST-MODIFIED;VALUE=DATE-TIME:20241101T104606Z
LOCATION:UNILA - Jardim Universitário
URL:https://portal.unila.edu.br/eventos/2o-seminario-internacional-do-imea
END:VEVENT
END:VCALENDAR
